Package: categoryCompare Version: 1.48.0 Command: rm -rf categoryCompare.buildbin-libdir && mkdir categoryCompare.buildbin-libdir && /Users/biocbuild/BBS/utils/build-universal.sh categoryCompare_1.48.0.tar.gz /Library/Frameworks/R.framework/Resources/bin/R categoryCompare.buildbin-libdir StartedAt: 2024-06-10 00:09:57 -0400 (Mon, 10 Jun 2024) EndedAt: 2024-06-10 00:10:36 -0400 (Mon, 10 Jun 2024) EllapsedTime: 39.1 seconds RetCode: 0 Status: OK PackageFile: categoryCompare_1.48.0.tgz PackageFileSize: 2.548 MiB