Package: categoryCompare Version: 1.48.0 Command: rm -rf categoryCompare.buildbin-libdir && mkdir categoryCompare.buildbin-libdir && F:\biocbuild\bbs-3.19-bioc\R\bin\R.exe CMD INSTALL --build --library=categoryCompare.buildbin-libdir categoryCompare_1.48.0.tar.gz StartedAt: 2024-06-27 07:56:53 -0400 (Thu, 27 Jun 2024) EndedAt: 2024-06-27 07:57:45 -0400 (Thu, 27 Jun 2024) EllapsedTime: 52.0 seconds RetCode: 0 Status: OK PackageFile: categoryCompare_1.48.0.zip PackageFileSize: 2.554 MiB