Package: categoryCompare Version: 1.48.0 Command: F:\biocbuild\bbs-3.19-bioc\R\bin\R.exe CMD INSTALL categoryCompare StartedAt: 2024-06-26 16:32:46 -0400 (Wed, 26 Jun 2024) EndedAt: 2024-06-26 16:33:36 -0400 (Wed, 26 Jun 2024) EllapsedTime: 50.2 seconds RetCode: 0 Status: OK