Package: categoryCompare Version: 1.48.0 Command: chmod a+r categoryCompare -R && E:\biocbuild\bbs-3.19-bioc\R\bin\R.exe CMD build --keep-empty-dirs --no-resave-data categoryCompare StartedAt: 2024-10-16 18:02:39 -0400 (Wed, 16 Oct 2024) EndedAt: 2024-10-16 18:06:30 -0400 (Wed, 16 Oct 2024) EllapsedTime: 231.1 seconds RetCode: 0 Status: OK PackageFile: categoryCompare_1.48.0.tar.gz PackageFileSize: 3.162 MiB