Package: ccImpute Version: 1.6.1 Command: /home/biocbuild/bbs-3.19-bioc/R/bin/R CMD check --install=check:ccImpute.install-out.txt --library=/home/biocbuild/bbs-3.19-bioc/R/site-library --timings ccImpute_1.6.1.tar.gz StartedAt: 2024-10-16 22:29:50 -0400 (Wed, 16 Oct 2024) EndedAt: 2024-10-16 22:36:23 -0400 (Wed, 16 Oct 2024) EllapsedTime: 392.8 seconds RetCode: 0 Status: OK CheckDir: ccImpute.Rcheck Warnings: 0