Package: ccImpute Version: 1.6.0 Command: rm -rf ccImpute.buildbin-libdir && mkdir ccImpute.buildbin-libdir && F:\biocbuild\bbs-3.19-bioc\R\bin\R.exe CMD INSTALL --build --library=ccImpute.buildbin-libdir ccImpute_1.6.0.tar.gz StartedAt: 2024-06-27 07:57:15 -0400 (Thu, 27 Jun 2024) EndedAt: 2024-06-27 07:57:54 -0400 (Thu, 27 Jun 2024) EllapsedTime: 39.5 seconds RetCode: 0 Status: OK PackageFile: ccImpute_1.6.0.zip PackageFileSize: 709.2 KiB