Package: ccImpute Version: 1.6.1 Command: rm -rf ccImpute.buildbin-libdir && mkdir ccImpute.buildbin-libdir && E:\biocbuild\bbs-3.19-bioc\R\bin\R.exe CMD INSTALL --build --library=ccImpute.buildbin-libdir ccImpute_1.6.1.tar.gz StartedAt: 2024-10-17 07:29:35 -0400 (Thu, 17 Oct 2024) EndedAt: 2024-10-17 07:30:25 -0400 (Thu, 17 Oct 2024) EllapsedTime: 50.3 seconds RetCode: 0 Status: OK PackageFile: ccImpute_1.6.1.zip PackageFileSize: 1.449 MiB