Package: ccImpute Version: 1.6.1 Command: E:\biocbuild\bbs-3.19-bioc\R\bin\R.exe CMD INSTALL ccImpute StartedAt: 2024-10-16 16:25:51 -0400 (Wed, 16 Oct 2024) EndedAt: 2024-10-16 16:26:40 -0400 (Wed, 16 Oct 2024) EllapsedTime: 49.5 seconds RetCode: 0 Status: OK