Package: ceRNAnetsim Version: 1.16.0 Command: /Library/Frameworks/R.framework/Resources/bin/R CMD INSTALL ceRNAnetsim StartedAt: 2024-10-16 17:38:21 -0400 (Wed, 16 Oct 2024) EndedAt: 2024-10-16 17:38:32 -0400 (Wed, 16 Oct 2024) EllapsedTime: 10.4 seconds RetCode: 0 Status: OK