Package: ceRNAnetsim Version: 1.16.0 Command: /Library/Frameworks/R.framework/Resources/bin/R CMD build --keep-empty-dirs --no-resave-data ceRNAnetsim StartedAt: 2024-06-09 19:14:30 -0400 (Sun, 09 Jun 2024) EndedAt: 2024-06-09 19:20:56 -0400 (Sun, 09 Jun 2024) EllapsedTime: 385.8 seconds RetCode: 0 Status: OK PackageFile: ceRNAnetsim_1.16.0.tar.gz PackageFileSize: 3.062 MiB