Package: ceRNAnetsim Version: 1.16.0 Command: /Library/Frameworks/R.framework/Resources/bin/R CMD INSTALL ceRNAnetsim StartedAt: 2024-06-09 16:38:09 -0400 (Sun, 09 Jun 2024) EndedAt: 2024-06-09 16:38:20 -0400 (Sun, 09 Jun 2024) EllapsedTime: 11.4 seconds RetCode: 0 Status: OK