Package: cellity Version: 1.32.0 Command: rm -rf cellity.buildbin-libdir && mkdir cellity.buildbin-libdir && /Users/biocbuild/BBS/utils/build-universal.sh cellity_1.32.0.tar.gz /Library/Frameworks/R.framework/Resources/bin/R cellity.buildbin-libdir StartedAt: 2024-10-18 17:41:28 -0400 (Fri, 18 Oct 2024) EndedAt: 2024-10-18 17:41:52 -0400 (Fri, 18 Oct 2024) EllapsedTime: 24.0 seconds RetCode: 0 Status: OK PackageFile: cellity_1.32.0.tgz PackageFileSize: 1.443 MiB