Package: cellity Version: 1.32.0 Command: /Library/Frameworks/R.framework/Resources/bin/R CMD build --keep-empty-dirs --no-resave-data cellity StartedAt: 2024-10-16 21:03:47 -0400 (Wed, 16 Oct 2024) EndedAt: 2024-10-16 21:05:07 -0400 (Wed, 16 Oct 2024) EllapsedTime: 80.0 seconds RetCode: 0 Status: OK PackageFile: cellity_1.32.0.tar.gz PackageFileSize: 1.244 MiB