Package: cellity Version: 1.32.0 Command: /home/biocbuild/R/R-beta-2024-04-15_r86425/bin/R CMD build --keep-empty-dirs --no-resave-data cellity StartedAt: 2024-05-08 23:09:16 -0000 (Wed, 08 May 2024) EndedAt: 2024-05-08 23:10:51 -0000 (Wed, 08 May 2024) EllapsedTime: 95.1 seconds RetCode: 0 Status: OK PackageFile: cellity_1.32.0.tar.gz PackageFileSize: 1.131 MiB