Package: cellity Version: 1.32.0 Command: /Library/Frameworks/R.framework/Resources/bin/R CMD check --install=check:cellity.install-out.txt --library=/Library/Frameworks/R.framework/Resources/library --no-vignettes --timings cellity_1.32.0.tar.gz StartedAt: 2024-10-17 02:27:32 -0400 (Thu, 17 Oct 2024) EndedAt: 2024-10-17 02:33:33 -0400 (Thu, 17 Oct 2024) EllapsedTime: 360.3 seconds RetCode: 0 Status: OK CheckDir: cellity.Rcheck Warnings: 0