Package: cellity Version: 1.32.0 Command: /home/biocbuild/bbs-3.19-bioc/R/bin/R CMD check --install=check:cellity.install-out.txt --library=/home/biocbuild/bbs-3.19-bioc/R/site-library --timings cellity_1.32.0.tar.gz StartedAt: 2024-10-16 22:33:42 -0400 (Wed, 16 Oct 2024) EndedAt: 2024-10-16 22:37:04 -0400 (Wed, 16 Oct 2024) EllapsedTime: 202.4 seconds RetCode: 0 Status: OK CheckDir: cellity.Rcheck Warnings: 0