Package: cellscape Version: 1.28.0 Command: /Library/Frameworks/R.framework/Resources/bin/R CMD build --keep-empty-dirs --no-resave-data cellscape StartedAt: 2024-10-16 17:48:18 -0400 (Wed, 16 Oct 2024) EndedAt: 2024-10-16 17:48:38 -0400 (Wed, 16 Oct 2024) EllapsedTime: 20.5 seconds RetCode: 0 Status: OK PackageFile: cellscape_1.28.0.tar.gz PackageFileSize: 897.2 KiB