Package: cellscape Version: 1.28.0 Command: /home/biocbuild/bbs-3.19-bioc/R/bin/R CMD INSTALL cellscape StartedAt: 2024-10-16 16:19:51 -0400 (Wed, 16 Oct 2024) EndedAt: 2024-10-16 16:19:54 -0400 (Wed, 16 Oct 2024) EllapsedTime: 2.9 seconds RetCode: 0 Status: OK