Package: cellxgenedp Version: 1.8.0 Command: rm -rf cellxgenedp.buildbin-libdir && mkdir cellxgenedp.buildbin-libdir && /Users/biocbuild/BBS/utils/build-universal.sh cellxgenedp_1.8.0.tar.gz /Library/Frameworks/R.framework/Resources/bin/R cellxgenedp.buildbin-libdir StartedAt: 2024-06-11 10:30:17 -0400 (Tue, 11 Jun 2024) EndedAt: 2024-06-11 10:30:29 -0400 (Tue, 11 Jun 2024) EllapsedTime: 12.0 seconds RetCode: 0 Status: OK PackageFile: cellxgenedp_1.8.0.tgz PackageFileSize: 505 KiB