Package: cellxgenedp Version: 1.8.0 Command: /home/biocbuild/R/R-beta-2024-04-15_r86425/bin/R CMD build --keep-empty-dirs --no-resave-data cellxgenedp StartedAt: 2024-05-08 23:10:39 -0000 (Wed, 08 May 2024) EndedAt: 2024-05-08 23:12:21 -0000 (Wed, 08 May 2024) EllapsedTime: 102.1 seconds RetCode: 0 Status: OK PackageFile: cellxgenedp_1.8.0.tar.gz PackageFileSize: 521.4 KiB