Package: cellxgenedp Version: 1.8.0 Command: /Library/Frameworks/R.framework/Resources/bin/R CMD check --install=check:cellxgenedp.install-out.txt --library=/Library/Frameworks/R.framework/Resources/library --no-vignettes --timings cellxgenedp_1.8.0.tar.gz StartedAt: 2024-06-09 19:19:45 -0400 (Sun, 09 Jun 2024) EndedAt: 2024-06-09 19:21:58 -0400 (Sun, 09 Jun 2024) EllapsedTime: 132.7 seconds RetCode: 0 Status: OK CheckDir: cellxgenedp.Rcheck Warnings: 0