Package: cellxgenedp Version: 1.8.0 Command: /Library/Frameworks/R.framework/Resources/bin/R CMD check --install=check:cellxgenedp.install-out.txt --library=/Library/Frameworks/R.framework/Resources/library --no-vignettes --timings cellxgenedp_1.8.0.tar.gz StartedAt: 2024-10-17 02:30:02 -0400 (Thu, 17 Oct 2024) EndedAt: 2024-10-17 02:34:59 -0400 (Thu, 17 Oct 2024) EllapsedTime: 297.2 seconds RetCode: 0 Status: OK CheckDir: cellxgenedp.Rcheck Warnings: 0