Package: cellxgenedp Version: 1.8.0 Command: chmod a+r cellxgenedp -R && E:\biocbuild\bbs-3.19-bioc\R\bin\R.exe CMD build --keep-empty-dirs --no-resave-data cellxgenedp StartedAt: 2024-10-16 18:06:34 -0400 (Wed, 16 Oct 2024) EndedAt: 2024-10-16 18:10:26 -0400 (Wed, 16 Oct 2024) EllapsedTime: 232.5 seconds RetCode: 0 Status: OK PackageFile: cellxgenedp_1.8.0.tar.gz PackageFileSize: 472.3 KiB