Package: cellxgenedp Version: 1.8.0 Command: E:\biocbuild\bbs-3.19-bioc\R\bin\R.exe CMD check --no-multiarch --install=check:cellxgenedp.install-out.txt --library=E:\biocbuild\bbs-3.19-bioc\R\library --no-vignettes --timings cellxgenedp_1.8.0.tar.gz StartedAt: 2024-10-16 23:50:46 -0400 (Wed, 16 Oct 2024) EndedAt: 2024-10-16 23:53:41 -0400 (Wed, 16 Oct 2024) EllapsedTime: 175.3 seconds RetCode: 0 Status: OK CheckDir: cellxgenedp.Rcheck Warnings: 0