Package: censcyt Version: 1.12.0 Command: /Library/Frameworks/R.framework/Resources/bin/R CMD INSTALL censcyt StartedAt: 2024-10-16 18:54:01 -0400 (Wed, 16 Oct 2024) EndedAt: 2024-10-16 18:54:38 -0400 (Wed, 16 Oct 2024) EllapsedTime: 37.0 seconds RetCode: 0 Status: OK