Package: censcyt Version: 1.12.0 Command: rm -rf censcyt.buildbin-libdir && mkdir censcyt.buildbin-libdir && /Users/biocbuild/BBS/utils/build-universal.sh censcyt_1.12.0.tar.gz /Library/Frameworks/R.framework/Resources/bin/R censcyt.buildbin-libdir StartedAt: 2024-06-11 10:30:30 -0400 (Tue, 11 Jun 2024) EndedAt: 2024-06-11 10:31:32 -0400 (Tue, 11 Jun 2024) EllapsedTime: 61.8 seconds RetCode: 0 Status: OK PackageFile: censcyt_1.12.0.tgz PackageFileSize: 606 KiB