Package: censcyt Version: 1.12.0 Command: E:\biocbuild\bbs-3.19-bioc\R\bin\R.exe CMD check --no-multiarch --install=check:censcyt.install-out.txt --library=E:\biocbuild\bbs-3.19-bioc\R\library --no-vignettes --timings censcyt_1.12.0.tar.gz StartedAt: 2024-10-16 23:50:49 -0400 (Wed, 16 Oct 2024) EndedAt: 2024-10-16 23:56:09 -0400 (Wed, 16 Oct 2024) EllapsedTime: 319.4 seconds RetCode: 0 Status: OK CheckDir: censcyt.Rcheck Warnings: 0