Package: cfDNAPro Version: 1.10.0 Command: rm -rf cfDNAPro.buildbin-libdir && mkdir cfDNAPro.buildbin-libdir && E:\biocbuild\bbs-3.19-bioc\R\bin\R.exe CMD INSTALL --build --library=cfDNAPro.buildbin-libdir cfDNAPro_1.10.0.tar.gz StartedAt: 2024-10-17 07:30:56 -0400 (Thu, 17 Oct 2024) EndedAt: 2024-10-17 07:31:35 -0400 (Thu, 17 Oct 2024) EllapsedTime: 38.6 seconds RetCode: 0 Status: OK PackageFile: cfDNAPro_1.10.0.zip PackageFileSize: 803.9 KiB