Package: chipenrich Version: 2.28.0 Command: /home/biocbuild/R/R-beta-2024-04-15_r86425/bin/R CMD build --keep-empty-dirs --no-resave-data chipenrich StartedAt: 2024-05-08 23:15:01 -0000 (Wed, 08 May 2024) EndedAt: 2024-05-08 23:17:13 -0000 (Wed, 08 May 2024) EllapsedTime: 132.2 seconds RetCode: 0 Status: OK PackageFile: chipenrich_2.28.0.tar.gz PackageFileSize: 533.5 KiB