Package: chipenrich Version: 2.28.0 Command: /home/biocbuild/bbs-3.19-bioc/R/bin/R CMD build --keep-empty-dirs --no-resave-data chipenrich StartedAt: 2024-10-16 17:41:19 -0400 (Wed, 16 Oct 2024) EndedAt: 2024-10-16 17:42:46 -0400 (Wed, 16 Oct 2024) EllapsedTime: 87.1 seconds RetCode: 0 Status: OK PackageFile: chipenrich_2.28.0.tar.gz PackageFileSize: 621.7 KiB