Package: chipenrich Version: 2.28.0 Command: rm -rf chipenrich.buildbin-libdir && mkdir chipenrich.buildbin-libdir && F:\biocbuild\bbs-3.19-bioc\R\bin\R.exe CMD INSTALL --build --library=chipenrich.buildbin-libdir chipenrich_2.28.0.tar.gz StartedAt: 2024-06-27 07:58:55 -0400 (Thu, 27 Jun 2024) EndedAt: 2024-06-27 07:59:54 -0400 (Thu, 27 Jun 2024) EllapsedTime: 59.3 seconds RetCode: 0 Status: OK PackageFile: chipenrich_2.28.0.zip PackageFileSize: 675.2 KiB