Package: chipenrich Version: 2.28.0 Command: chmod a+r chipenrich -R && F:\biocbuild\bbs-3.19-bioc\R\bin\R.exe CMD build --keep-empty-dirs --no-resave-data chipenrich StartedAt: 2024-06-26 17:46:02 -0400 (Wed, 26 Jun 2024) EndedAt: 2024-06-26 17:48:07 -0400 (Wed, 26 Jun 2024) EllapsedTime: 124.5 seconds RetCode: 0 Status: OK PackageFile: chipenrich_2.28.0.tar.gz PackageFileSize: 439.4 KiB