Package: chipenrich Version: 2.28.0 Command: chmod a+r chipenrich -R && E:\biocbuild\bbs-3.19-bioc\R\bin\R.exe CMD build --keep-empty-dirs --no-resave-data chipenrich StartedAt: 2024-10-16 18:10:16 -0400 (Wed, 16 Oct 2024) EndedAt: 2024-10-16 18:12:22 -0400 (Wed, 16 Oct 2024) EllapsedTime: 126.1 seconds RetCode: 0 Status: OK PackageFile: chipenrich_2.28.0.tar.gz PackageFileSize: 439.4 KiB