Package: chipenrich Version: 2.28.0 Command: E:\biocbuild\bbs-3.19-bioc\R\bin\R.exe CMD INSTALL chipenrich StartedAt: 2024-10-16 17:04:36 -0400 (Wed, 16 Oct 2024) EndedAt: 2024-10-16 17:05:35 -0400 (Wed, 16 Oct 2024) EllapsedTime: 58.7 seconds RetCode: 0 Status: OK