Package: chopsticks Version: 1.70.0 Command: rm -rf chopsticks.buildbin-libdir && mkdir chopsticks.buildbin-libdir && /Users/biocbuild/BBS/utils/build-universal.sh chopsticks_1.70.0.tar.gz /Library/Frameworks/R.framework/Resources/bin/R chopsticks.buildbin-libdir StartedAt: 2024-10-18 17:46:14 -0400 (Fri, 18 Oct 2024) EndedAt: 2024-10-18 17:46:40 -0400 (Fri, 18 Oct 2024) EllapsedTime: 26.1 seconds RetCode: 0 Status: OK PackageFile: chopsticks_1.70.0.tgz PackageFileSize: 5.386 MiB