Package: chopsticks Version: 1.70.0 Command: /Library/Frameworks/R.framework/Resources/bin/R CMD build --keep-empty-dirs --no-resave-data chopsticks StartedAt: 2024-10-16 21:25:23 -0400 (Wed, 16 Oct 2024) EndedAt: 2024-10-16 21:25:57 -0400 (Wed, 16 Oct 2024) EllapsedTime: 34.4 seconds RetCode: 0 Status: OK PackageFile: chopsticks_1.70.0.tar.gz PackageFileSize: 6.642 MiB