Package: chopsticks Version: 1.70.0 Command: /Library/Frameworks/R.framework/Resources/bin/R CMD check --install=check:chopsticks.install-out.txt --library=/Library/Frameworks/R.framework/Resources/library --no-vignettes --timings chopsticks_1.70.0.tar.gz StartedAt: 2024-06-10 10:31:31 -0400 (Mon, 10 Jun 2024) EndedAt: 2024-06-10 10:33:26 -0400 (Mon, 10 Jun 2024) EllapsedTime: 115.2 seconds RetCode: 0 Status: WARNINGS CheckDir: chopsticks.Rcheck Warnings: 3