Package: chopsticks Version: 1.70.0 Command: /home/biocbuild/R/R-beta-2024-04-15_r86425/bin/R CMD check --install=check:chopsticks.install-out.txt --library=/home/biocbuild/R/R-beta-2024-04-15_r86425/site-library --no-vignettes --timings chopsticks_1.70.0.tar.gz StartedAt: 2024-05-09 05:48:46 -0000 (Thu, 09 May 2024) EndedAt: 2024-05-09 05:49:47 -0000 (Thu, 09 May 2024) EllapsedTime: 61.1 seconds RetCode: 0 Status: WARNINGS CheckDir: chopsticks.Rcheck Warnings: 3