Package: chopsticks Version: 1.70.0 Command: /Library/Frameworks/R.framework/Resources/bin/R CMD check --install=check:chopsticks.install-out.txt --library=/Library/Frameworks/R.framework/Resources/library --no-vignettes --timings chopsticks_1.70.0.tar.gz StartedAt: 2024-06-09 19:24:14 -0400 (Sun, 09 Jun 2024) EndedAt: 2024-06-09 19:25:21 -0400 (Sun, 09 Jun 2024) EllapsedTime: 66.7 seconds RetCode: 0 Status: WARNINGS CheckDir: chopsticks.Rcheck Warnings: 3