Package: chopsticks Version: 1.70.0 Command: /home/biocbuild/bbs-3.19-bioc/R/bin/R CMD check --install=check:chopsticks.install-out.txt --library=/home/biocbuild/bbs-3.19-bioc/R/site-library --timings chopsticks_1.70.0.tar.gz StartedAt: 2024-10-16 22:43:28 -0400 (Wed, 16 Oct 2024) EndedAt: 2024-10-16 22:44:30 -0400 (Wed, 16 Oct 2024) EllapsedTime: 62.1 seconds RetCode: 0 Status: WARNINGS CheckDir: chopsticks.Rcheck Warnings: 3