Package: chopsticks Version: 1.70.0 Command: F:\biocbuild\bbs-3.19-bioc\R\bin\R.exe CMD check --no-multiarch --install=check:chopsticks.install-out.txt --library=F:\biocbuild\bbs-3.19-bioc\R\library --no-vignettes --timings chopsticks_1.70.0.tar.gz StartedAt: 2024-06-27 00:02:29 -0400 (Thu, 27 Jun 2024) EndedAt: 2024-06-27 00:03:48 -0400 (Thu, 27 Jun 2024) EllapsedTime: 79.0 seconds RetCode: 0 Status: WARNINGS CheckDir: chopsticks.Rcheck Warnings: 2