Package: chopsticks Version: 1.70.0 Command: E:\biocbuild\bbs-3.19-bioc\R\bin\R.exe CMD check --no-multiarch --install=check:chopsticks.install-out.txt --library=E:\biocbuild\bbs-3.19-bioc\R\library --no-vignettes --timings chopsticks_1.70.0.tar.gz StartedAt: 2024-10-16 23:57:44 -0400 (Wed, 16 Oct 2024) EndedAt: 2024-10-16 23:58:53 -0400 (Wed, 16 Oct 2024) EllapsedTime: 69.5 seconds RetCode: 0 Status: WARNINGS CheckDir: chopsticks.Rcheck Warnings: 2