Package: chopsticks Version: 1.70.0 Command: E:\biocbuild\bbs-3.19-bioc\R\bin\R.exe CMD INSTALL chopsticks StartedAt: 2024-10-16 16:55:36 -0400 (Wed, 16 Oct 2024) EndedAt: 2024-10-16 16:56:28 -0400 (Wed, 16 Oct 2024) EllapsedTime: 51.4 seconds RetCode: 0 Status: OK