Package: chromPlot Version: 1.32.0 Command: rm -rf chromPlot.buildbin-libdir && mkdir chromPlot.buildbin-libdir && /Users/biocbuild/BBS/utils/build-universal.sh chromPlot_1.32.0.tar.gz /Library/Frameworks/R.framework/Resources/bin/R chromPlot.buildbin-libdir StartedAt: 2024-10-18 17:46:37 -0400 (Fri, 18 Oct 2024) EndedAt: 2024-10-18 17:47:03 -0400 (Fri, 18 Oct 2024) EllapsedTime: 26.1 seconds RetCode: 0 Status: OK PackageFile: chromPlot_1.32.0.tgz PackageFileSize: 1.596 MiB