Package: chromstaR Version: 1.30.0 Command: rm -rf chromstaR.buildbin-libdir && mkdir chromstaR.buildbin-libdir && F:\biocbuild\bbs-3.19-bioc\R\bin\R.exe CMD INSTALL --build --library=chromstaR.buildbin-libdir chromstaR_1.30.0.tar.gz StartedAt: 2024-06-27 07:59:40 -0400 (Thu, 27 Jun 2024) EndedAt: 2024-06-27 08:00:42 -0400 (Thu, 27 Jun 2024) EllapsedTime: 62.1 seconds RetCode: 0 Status: OK PackageFile: chromstaR_1.30.0.zip PackageFileSize: 6.746 MiB