Package: chromstaR Version: 1.30.0 Command: F:\biocbuild\bbs-3.19-bioc\R\bin\R.exe CMD check --no-multiarch --install=check:chromstaR.install-out.txt --library=F:\biocbuild\bbs-3.19-bioc\R\library --no-vignettes --timings chromstaR_1.30.0.tar.gz StartedAt: 2024-06-27 00:03:20 -0400 (Thu, 27 Jun 2024) EndedAt: 2024-06-27 00:11:50 -0400 (Thu, 27 Jun 2024) EllapsedTime: 510.0 seconds RetCode: 0 Status: OK CheckDir: chromstaR.Rcheck Warnings: 0