Package: chromstaR Version: 1.30.0 Command: rm -rf chromstaR.buildbin-libdir && mkdir chromstaR.buildbin-libdir && E:\biocbuild\bbs-3.19-bioc\R\bin\R.exe CMD INSTALL --build --library=chromstaR.buildbin-libdir chromstaR_1.30.0.tar.gz StartedAt: 2024-10-17 07:32:13 -0400 (Thu, 17 Oct 2024) EndedAt: 2024-10-17 07:33:26 -0400 (Thu, 17 Oct 2024) EllapsedTime: 72.3 seconds RetCode: 0 Status: OK PackageFile: chromstaR_1.30.0.zip PackageFileSize: 6.748 MiB