Package: cicero Version: 1.22.0 Command: /Library/Frameworks/R.framework/Resources/bin/R CMD INSTALL cicero StartedAt: 2024-10-16 17:22:13 -0400 (Wed, 16 Oct 2024) EndedAt: 2024-10-16 17:23:21 -0400 (Wed, 16 Oct 2024) EllapsedTime: 68.4 seconds RetCode: 0 Status: OK