Package: cicero Version: 1.22.0 Command: F:\biocbuild\bbs-3.19-bioc\R\bin\R.exe CMD check --no-multiarch --install=check:cicero.install-out.txt --library=F:\biocbuild\bbs-3.19-bioc\R\library --no-vignettes --timings cicero_1.22.0.tar.gz StartedAt: 2024-06-27 00:04:03 -0400 (Thu, 27 Jun 2024) EndedAt: 2024-06-27 00:14:04 -0400 (Thu, 27 Jun 2024) EllapsedTime: 600.9 seconds RetCode: 0 Status: OK CheckDir: cicero.Rcheck Warnings: 0