Package: cicero Version: 1.22.0 Command: E:\biocbuild\bbs-3.19-bioc\R\bin\R.exe CMD INSTALL cicero StartedAt: 2024-10-16 16:48:02 -0400 (Wed, 16 Oct 2024) EndedAt: 2024-10-16 16:49:15 -0400 (Wed, 16 Oct 2024) EllapsedTime: 72.9 seconds RetCode: 0 Status: OK